BEGIN:VCALENDAR
VERSION:2.0
PRODID:-//Fellowship of Christian Airline Personnel - ECPv6.15.20//NONSGML v1.0//EN
CALSCALE:GREGORIAN
METHOD:PUBLISH
X-WR-CALNAME:Fellowship of Christian Airline Personnel
X-ORIGINAL-URL:https://fcap.org
X-WR-CALDESC:Events for Fellowship of Christian Airline Personnel
REFRESH-INTERVAL;VALUE=DURATION:PT1H
X-Robots-Tag:noindex
X-PUBLISHED-TTL:PT1H
BEGIN:VTIMEZONE
TZID:America/New_York
BEGIN:DAYLIGHT
TZOFFSETFROM:-0500
TZOFFSETTO:-0400
TZNAME:EDT
DTSTART:20250309T070000
END:DAYLIGHT
BEGIN:STANDARD
TZOFFSETFROM:-0400
TZOFFSETTO:-0500
TZNAME:EST
DTSTART:20251102T060000
END:STANDARD
BEGIN:DAYLIGHT
TZOFFSETFROM:-0500
TZOFFSETTO:-0400
TZNAME:EDT
DTSTART:20260308T070000
END:DAYLIGHT
BEGIN:STANDARD
TZOFFSETFROM:-0400
TZOFFSETTO:-0500
TZNAME:EST
DTSTART:20261101T060000
END:STANDARD
BEGIN:DAYLIGHT
TZOFFSETFROM:-0500
TZOFFSETTO:-0400
TZNAME:EDT
DTSTART:20270314T070000
END:DAYLIGHT
BEGIN:STANDARD
TZOFFSETFROM:-0400
TZOFFSETTO:-0500
TZNAME:EST
DTSTART:20271107T060000
END:STANDARD
END:VTIMEZONE
BEGIN:VEVENT
DTSTART;VALUE=DATE:20260407
DTEND;VALUE=DATE:20260412
DTSTAMP:20260421T103511
CREATED:20251021T154711Z
LAST-MODIFIED:20260112T202417Z
UID:19285-1775520000-1775951999@fcap.org
SUMMARY:2026 FCAP International Conference in Nairobi\, Kenya
DESCRIPTION:Join us in Nairobi\, Kenya\, from April 7-11\, 2026\, for a week of fellowship\, devotion\, worship\, and fun. You won’t want to miss this opportunity to be blessed and challenged by the international body of Christ! Experience timely teaching\, Spirit-filled worship\, and once-in-a-lifetime experiences you won’t find anywhere else! This year we will focus on “Bearing Fruit” as faithful followers of Christ.  \n  \nThe cost of the event is $550 ($525 if registered before Jan 1\, 2026). This covers all food and lodging during the event. To learn more about the conference site’s amenities\, click here.  \n  \nRegister Here! \n\n\n                \n                        \n                            2026 International Conference w/ Payment\n                             \n                        \n        \n        	Step 1 of 2\n        	 \n            \n                50%\n            \n                        \n					Name(Required)\n                            \n                            \n                                                    First\n                                                    \n                                                \n                            \n                            \n                                                            Last\n                                                            \n                                                        \n                            \n                        Email(Required)\n                            \n                        Phone(Required)Spouse Name (If Attending)\n                            \n                            \n                                                    First\n                                                    \n                                                \n                            \n                            \n                                                            Last\n                                                            \n                                                        \n                            \n                        Airline/Aviation Affiliation(Required)Airline/Aviation Base Where I Work/Live(Required)Registration Fee Quantity(Required)Please select the number of adults you are registering for. Overnight accomodation rooms are double occupancy with private bathroom/shower Included in the room. Cost information is listed below and includes the $150 USD per person non-refundable registration fee and 11 meals (beginning with dinner on Tuesday\, April 7\, and concluding with breakfast on Saturday\, April 11).\n					\n					\n						Price:\n						$150.00\n					\n					\n					 Quantity \n				If attending alone and have a roommate preference\, please list name below:Local CommutersIf you will be attending as a local commuter and do not require overnight accommodations\, please indicate below. The $150/person non-refundable registration fee does apply to commuters as well. A link for the payment portal will be provided once you press "Submit" at the conclusion of this form.\n								\n								I will be a local commuter ($150 USD non-refundable registration fee payable at time of registration and payable through link provided when submitting this registration form). Commuter cost beyond the $150 registration fee will be obtained from and paid directly to our FCAP group in Nairobi.\n							Visa Letters\n								\n								I require a visa letter to enter Kenya. I understand provision of this letter is contingent on verification by FCAP leadership in your respective country and upon our receipt of your completed registration form and the required $150 USD / person registration fee. (An official letter of invitation will be provided by FCAP-Nairobi to include with your visa application. It will be your responsibility to contact your respective embassy to find out what specific visa requirement apply to you.\n							Each registrant will receive a commemorative T-shirt at check in. Please indicate your size below. (Due to fabric content\, you may want to opt for one size larger than what you normally wear.) If your registration includes other individuals\, please list their sizes in the box provided.(Required)\n			\n					\n					Small\n			\n			\n					\n					Medium\n			\n			\n					\n					Large\n			\n			\n					\n					XL\n			\n			\n					\n					XXL\n			\n			\n					\n					XXXL\n			Additional Information re: T-shirt SizeTransportation(Required)\n			\n					\n					Yes\, both on Tuesday and Saturday.\n			\n			\n					\n					Yes\, Tuesday only\n			\n			\n					\n					Yes\, Saturday only.\n			\n			\n					\n					No\, I will not need transportation.\n			Comments / Questions\n                    \n                    \n                          \n                    \n                \n                \n                    \n                        Total\n							\n						Credit Card(Required)
URL:https://fcap.org/event/2026-conference-bearing-fruit/
LOCATION:BTL Christian International Conference Centre\, Nairobi\, Kenya
ATTACH;FMTTYPE=image/jpeg:https://fcap.org/wp-content/uploads/2025/10/FCAP-2026-Conference-Header.jpg
END:VEVENT
END:VCALENDAR